BEGIN:VCALENDAR
VERSION:2.0
PRODID:-//ChamberMaster//Event Calendar 2.0//EN
METHOD:PUBLISH
X-PUBLISHED-TTL:P3D
REFRESH-INTERVAL:P3D
CALSCALE:GREGORIAN
BEGIN:VEVENT
DTSTART:20230414T163000Z
DTEND:20230414T163000Z
X-MICROSOFT-CDO-ALLDAYEVENT:FALSE
SUMMARY:Ribbon Cutting/Westrock Orthodontics
DESCRIPTION:Join us for the introduction and celebration of Westrock's new Orthodontist.
X-ALT-DESC;FMTTYPE=text/html:Join us for the introduction and celebration of Westrock&#39\;s new Orthodontist.
LOCATION:711 Salem Ave.
UID:e.1638.1765
SEQUENCE:3
DTSTAMP:20260425T102350Z
URL:https://business.rollachamber.org/events/details/ribbon-cutting-westrock-orthodontics-1765
END:VEVENT

END:VCALENDAR
