BEGIN:VCALENDAR
VERSION:2.0
PRODID:-//ChamberMaster//Event Calendar 2.0//EN
METHOD:PUBLISH
X-PUBLISHED-TTL:P3D
REFRESH-INTERVAL:P3D
CALSCALE:GREGORIAN
BEGIN:VEVENT
DTSTART:20230615T150000Z
DTEND:20230615T150000Z
X-MICROSOFT-CDO-ALLDAYEVENT:FALSE
SUMMARY:Ribbon Cutting/Vision Xpress
DESCRIPTION:Please join us in celebrating the membership and Grand Opening of Vision Xpress!
X-ALT-DESC;FMTTYPE=text/html:Please join us in celebrating the membership and Grand Opening of Vision Xpress!
LOCATION:306 N. Bishop Ave.\, Ste. B Rolla
UID:e.1638.1775
SEQUENCE:3
DTSTAMP:20260423T003254Z
URL:https://business.rollachamber.org/events/details/ribbon-cutting-vision-xpress-1775
END:VEVENT

END:VCALENDAR
