BEGIN:VCALENDAR
VERSION:2.0
PRODID:-//ChamberMaster//Event Calendar 2.0//EN
METHOD:PUBLISH
X-PUBLISHED-TTL:P3D
REFRESH-INTERVAL:P3D
CALSCALE:GREGORIAN
BEGIN:VEVENT
DTSTART:20231219T170000Z
DTEND:20231219T170000Z
X-MICROSOFT-CDO-ALLDAYEVENT:FALSE
SUMMARY:Ribbon Cutting/Rolla Presbyterian Manor
DESCRIPTION:Join us as we celebrate Rolla Presbyterian Manor's 50 Year Anniversary!
X-ALT-DESC;FMTTYPE=text/html:Join us as we celebrate Rolla Presbyterian Manor&#39\;s 50 Year Anniversary!
LOCATION:1200 Homelife Plaza
UID:e.1638.1890
SEQUENCE:3
DTSTAMP:20260421T103141Z
URL:https://business.rollachamber.org/events/details/ribbon-cutting-rolla-presbyterian-manor-1890
END:VEVENT

END:VCALENDAR
