BEGIN:VCALENDAR
VERSION:2.0
PRODID:-//ChamberMaster//Event Calendar 2.0//EN
METHOD:PUBLISH
X-PUBLISHED-TTL:P3D
REFRESH-INTERVAL:P3D
CALSCALE:GREGORIAN
BEGIN:VEVENT
DTSTART:20230421T153000Z
DTEND:20230421T153000Z
X-MICROSOFT-CDO-ALLDAYEVENT:FALSE
SUMMARY:Ribbon Cutting/Phelps County Industrial Solutions
DESCRIPTION:Join us for the Ribbon Cutting and unveiling of Phelps County Industrial Solutions' new logo!
X-ALT-DESC;FMTTYPE=text/html:Join us for the Ribbon Cutting and unveiling of Phelps County Industrial Solutions&#39\; new logo!
LOCATION:3900 Hy Point Blvd.
UID:e.1638.1761
SEQUENCE:3
DTSTAMP:20260423T002412Z
URL:https://business.rollachamber.org/events/details/ribbon-cutting-phelps-county-industrial-solutions-1761
END:VEVENT

END:VCALENDAR
