BEGIN:VCALENDAR
VERSION:2.0
PRODID:-//ChamberMaster//Event Calendar 2.0//EN
METHOD:PUBLISH
X-PUBLISHED-TTL:P3D
REFRESH-INTERVAL:P3D
CALSCALE:GREGORIAN
BEGIN:VEVENT
DTSTART:20240426T154500Z
DTEND:20240426T154500Z
X-MICROSOFT-CDO-ALLDAYEVENT:FALSE
SUMMARY:Ribbon Cutting/Frida's Cantina
DESCRIPTION:Join us for a Ribbon Cutting to celebrate the membership of Frida's Cantina & Grill.
X-ALT-DESC;FMTTYPE=text/html:Join us for a Ribbon Cutting to celebrate the membership of Frida&#39\;s Cantina &amp\; Grill.
LOCATION:201 Hwy 72
UID:e.1638.1893
SEQUENCE:3
DTSTAMP:20260421T091140Z
URL:https://business.rollachamber.org/events/details/ribbon-cutting-frida-s-cantina-1893
END:VEVENT

END:VCALENDAR
