BEGIN:VCALENDAR
VERSION:2.0
PRODID:-//ChamberMaster//Event Calendar 2.0//EN
METHOD:PUBLISH
X-PUBLISHED-TTL:P3D
REFRESH-INTERVAL:P3D
CALSCALE:GREGORIAN
BEGIN:VEVENT
DTSTART:20231018T163000Z
DTEND:20231018T180000Z
X-MICROSOFT-CDO-ALLDAYEVENT:FALSE
SUMMARY:October Luncheon
DESCRIPTION:Monthly Networking and Educational Luncheon.      \n\n\n\nSupport Your Local Chamber of Commerce Day!\n\nLuncheon Speaker: Dr. Jon Bauer\, ECC President\n\nLuncheon Topic: East Central College\n\nLuncheon Sponsor:  Jefferson Bank\n\nBusiness of the Month:  Rolla Books & Toys\n\n\n\nBring business cards for networking and flyers or promotional items for the handout table.\n\n\n\nEvent Timeline: \n\n11:30 - buffet opens\, food served\n\n12:00 - program starts\n\n12:45 - round robin announcements\n\n1:00 - dismiss event\n\n\n\nRound Robin announcements should be kept to 30 seconds or less. Please refer to any handouts that you brought for the handout table. For more information on this\, please contact the Chamber staff.\n\n\n\n*Round Robin announcements are for members ONLY.*
X-ALT-DESC;FMTTYPE=text/html:<br />\nMonthly Networking and Educational Luncheon.&nbsp\;&nbsp\;&nbsp\;&nbsp\;&nbsp\;&nbsp\;<br />\n<br />\n<strong>Support Your Local Chamber of Commerce Day!</strong><br />\n<b>Luncheon Speaker:&nbsp\;</b><span style="font-family:calibri\,sans-serif\;"><span style="font-size:11.0pt\;">Dr. Jon Bauer\, ECC President</span></span><br />\n<strong>Luncheon Topic:</strong> East Central College<br />\n<strong>Luncheon Sponsor:</strong>&nbsp\; Jefferson Bank<br />\n<strong>Business of the Month:&nbsp\;</strong>&nbsp\;Rolla Books &amp\; Toys<br />\n<br />\nBring business cards for networking and flyers or promotional items for the handout table.<br />\n<br />\n<strong>Event Timeline:&nbsp\;</strong><br />\n11:30 - buffet opens\, food served<br />\n12:00 - program starts<br />\n12:45 - round robin announcements<br />\n1:00 - dismiss event<br />\n<br />\nRound Robin announcements should be kept to 30 seconds or less. Please refer to any handouts that you brought for the handout table. For more information on this\, please contact the Chamber staff.<br />\n<br />\n<strong>*Round Robin announcements are for members ONLY.*</strong><br />\n&nbsp\;
LOCATION:Lions Club Den 1061 South Bishop Ave
UID:e.1638.1714
SEQUENCE:3
DTSTAMP:20260420T221504Z
URL:https://business.rollachamber.org/events/details/october-luncheon-10-18-2023-1714
END:VEVENT

END:VCALENDAR
