BEGIN:VCALENDAR
VERSION:2.0
PRODID:-//ChamberMaster//Event Calendar 2.0//EN
METHOD:PUBLISH
X-PUBLISHED-TTL:P3D
REFRESH-INTERVAL:P3D
CALSCALE:GREGORIAN
BEGIN:VEVENT
DTSTART:20240321T220000Z
DTEND:20240321T233000Z
X-MICROSOFT-CDO-ALLDAYEVENT:FALSE
SUMMARY:Collective Educational Session: Local Government
DESCRIPTION:Join us for our first educational session of the year featuring esteemed guest speakers\, John Butz\, Rolla City Administrator\, and Sherry Stites\, Phelps County Commissioner\, in an engaging discussion on local government services.\n\n \n\nThis is your chance to gain valuable insights into the vital services our community provides and to connect with key decision-makers. Don't miss the opportunity to ask questions\, share your thoughts\, and deepen your understanding of the local government landscape. Secure your spot now for an informative session that promises to empower and inform!\n\n\n\nEvent Timeline: \n\n	5:00-5:30: networking-food\n	5:30-5:45: sponsor recognition\n	5:45: speakers\n	6:30: dismiss
X-ALT-DESC;FMTTYPE=text/html:Join us for our first educational session of the year featuring esteemed guest speakers\, <strong>John Butz</strong>\, Rolla City Administrator\, and <strong>Sherry Stites</strong>\, Phelps County Commissioner\, in an engaging discussion on local government services.<br />\n&nbsp\;<br />\nThis is your chance to gain valuable insights into the vital services our community provides and to connect with key decision-makers. Don&#39\;t miss the opportunity to ask questions\, share your thoughts\, and deepen your understanding of the local government landscape. Secure your spot now for an informative session that promises to empower and inform!<br />\n<br />\n<strong>Event Timeline:&nbsp\;</strong>\n<ul style="list-style-type:circle\;">\n	<li>5:00-5:30: networking-food</li>\n	<li>5:30-5:45: sponsor recognition</li>\n	<li>5:45: speakers</li>\n	<li>6:30: dismiss</li>\n</ul>\n<br />\n&nbsp\;
LOCATION:Oak Meadow Country Club 10700 CR 3110 Rolla\, MO
UID:e.1638.1858
SEQUENCE:3
DTSTAMP:20260420T031309Z
URL:https://business.rollachamber.org/events/details/collective-educational-session-local-government-1858
END:VEVENT

END:VCALENDAR
