BEGIN:VCALENDAR
VERSION:2.0
PRODID:-//ChamberMaster//Event Calendar 2.0//EN
METHOD:PUBLISH
X-PUBLISHED-TTL:P3D
REFRESH-INTERVAL:P3D
CALSCALE:GREGORIAN
BEGIN:VEVENT
DTSTART:20231011T133000Z
DTEND:20231011T153000Z
X-MICROSOFT-CDO-ALLDAYEVENT:FALSE
SUMMARY:CANCELLED: Chamber 101
DESCRIPTION:Chamber 101\n\n\n\nIf you are a new member of the Chamber\, or have been thinking of joining the Chamber\, this class is for you! This class will help you make the most of your Chamber membership!  This is also a great session if you just need a "refresher" course on Chamber benefits.\n\n\n\nDuring this two hour session\, we will discuss all the ways the Chamber can help grow your business.  We will also discuss how to best use your benefits.
X-ALT-DESC;FMTTYPE=text/html:Chamber 101<br />\n<br />\nIf you are a new member of the Chamber\, or have been thinking of joining the Chamber\, this class is for you! This class will help you make the most of your Chamber membership!&nbsp\; This is also a great session if you just need a &quot\;refresher&quot\; course on Chamber benefits.<br />\n<br />\nDuring this two hour session\, we will discuss all the ways the Chamber can help grow your business.&nbsp\; We will also discuss how to best use your benefits.
LOCATION:The Centre Meeting Room B 1200 Holloway
UID:e.1638.1691
SEQUENCE:3
DTSTAMP:20260423T055404Z
URL:https://business.rollachamber.org/events/details/cancelled-chamber-101-1691
END:VEVENT

END:VCALENDAR
